BEGIN:VCALENDAR
VERSION:2.0
PRODID:-//wp-events-plugin.com//7.2.3.1//EN
TZID:Europe/Paris
X-WR-TIMEZONE:Europe/Paris
BEGIN:VEVENT
UID:261@damesdugolfdurochat.fr
DTSTART;TZID=Europe/Paris;VALUE=DATE:20240620
DTEND;TZID=Europe/Paris;VALUE=DATE:20240621
DTSTAMP:20240526T102907Z
URL:http://damesdugolfdurochat.fr/events/triangulaire-divonne-rochat-megev
 e/
SUMMARY:Triangulaire Divonne - Rochat - Mégève
DESCRIPTION:
LOCATION:golf de Divonne\, rue des Bains\, Divonne\, France
GEO:46.357875;6.134644
X-APPLE-STRUCTURED-LOCATION;VALUE=URI;X-ADDRESS=rue des Bains\, Divonne\, F
 rance;X-APPLE-RADIUS=100;X-TITLE=golf de Divonne:geo:46.357875,6.134644
END:VEVENT
BEGIN:VTIMEZONE
TZID:Europe/Paris
X-LIC-LOCATION:Europe/Paris
BEGIN:DAYLIGHT
DTSTART:20240331T030000
TZOFFSETFROM:+0100
TZOFFSETTO:+0200
TZNAME:CEST
END:DAYLIGHT
END:VTIMEZONE
END:VCALENDAR