BEGIN:VCALENDAR
VERSION:2.0
PRODID:-//wp-events-plugin.com//7.2.3.1//EN
TZID:Europe/Paris
X-WR-TIMEZONE:Europe/Paris
BEGIN:VEVENT
UID:263@damesdugolfdurochat.fr
DTSTART;TZID=Europe/Paris;VALUE=DATE:20240626
DTEND;TZID=Europe/Paris;VALUE=DATE:20240627
DTSTAMP:20240614T165011Z
URL:http://damesdugolfdurochat.fr/events/competition-des-dizaines/
SUMMARY:Compétition des Dizaines\, Agnès\, Suzanne\, Rosy et Sylvie
DESCRIPTION:
CATEGORIES:Competitions
LOCATION:golf du Rochat\, route de Noiremont\, Les Rousses\, 39220\, France
GEO:46.487574;6.06995
X-APPLE-STRUCTURED-LOCATION;VALUE=URI;X-ADDRESS=route de Noiremont\, Les Ro
 usses\, 39220\, France;X-APPLE-RADIUS=100;X-TITLE=golf du Rochat:geo:46.48
 7574,6.06995
END:VEVENT
BEGIN:VTIMEZONE
TZID:Europe/Paris
X-LIC-LOCATION:Europe/Paris
BEGIN:DAYLIGHT
DTSTART:20240331T030000
TZOFFSETFROM:+0100
TZOFFSETTO:+0200
TZNAME:CEST
END:DAYLIGHT
END:VTIMEZONE
END:VCALENDAR